BEGIN:VCALENDAR
VERSION:2.0
PRODID:-//Troop 7 | Natick, MA | Scouts BSA - ECPv6.15.20//NONSGML v1.0//EN
CALSCALE:GREGORIAN
METHOD:PUBLISH
X-WR-CALNAME:Troop 7 | Natick, MA | Scouts BSA
X-ORIGINAL-URL:https://troop7natick.org
X-WR-CALDESC:Events for Troop 7 | Natick, MA | Scouts BSA
REFRESH-INTERVAL;VALUE=DURATION:PT1H
X-Robots-Tag:noindex
X-PUBLISHED-TTL:PT1H
BEGIN:VTIMEZONE
TZID:America/New_York
BEGIN:DAYLIGHT
TZOFFSETFROM:-0500
TZOFFSETTO:-0400
TZNAME:EDT
DTSTART:20240310T070000
END:DAYLIGHT
BEGIN:STANDARD
TZOFFSETFROM:-0400
TZOFFSETTO:-0500
TZNAME:EST
DTSTART:20241103T060000
END:STANDARD
BEGIN:DAYLIGHT
TZOFFSETFROM:-0500
TZOFFSETTO:-0400
TZNAME:EDT
DTSTART:20250309T070000
END:DAYLIGHT
BEGIN:STANDARD
TZOFFSETFROM:-0400
TZOFFSETTO:-0500
TZNAME:EST
DTSTART:20251102T060000
END:STANDARD
BEGIN:DAYLIGHT
TZOFFSETFROM:-0500
TZOFFSETTO:-0400
TZNAME:EDT
DTSTART:20260308T070000
END:DAYLIGHT
BEGIN:STANDARD
TZOFFSETFROM:-0400
TZOFFSETTO:-0500
TZNAME:EST
DTSTART:20261101T060000
END:STANDARD
END:VTIMEZONE
BEGIN:VEVENT
DTSTART;TZID=America/New_York:20250323T150000
DTEND;TZID=America/New_York:20250323T170000
DTSTAMP:20260420T215817
CREATED:20250312T230504Z
LAST-MODIFIED:20250317T204801Z
UID:10000344-1742742000-1742749200@troop7natick.org
SUMMARY:Asher Rice and Michael Boyer Eagle Ceremony
DESCRIPTION:Join us as we host the Eagle court of honor for Asher Rice and Michael Boyer. we hope you can join us to celebrate this wonderful achievement.
URL:https://troop7natick.org/event/asher-rice-and-michael-boyer-eagle-ceremony/
LOCATION:AMVETS Post #79\, 79 Superior Drive\, Natick\, MA\, 01760\, United States
CATEGORIES:Court of Honor
END:VEVENT
BEGIN:VEVENT
DTSTART;TZID=America/New_York:20250326T150000
DTEND;TZID=America/New_York:20250326T160000
DTSTAMP:20260420T215817
CREATED:20230823T165837Z
LAST-MODIFIED:20230823T170430Z
UID:10000067-1743001200-1743004800@troop7natick.org
SUMMARY:Troop Meeting
DESCRIPTION:This is Troop 7’s weekly meeting. Are you interested in joining the Troop? Stop by and see what we’re all about.
URL:https://troop7natick.org/event/troop-meeting/2025-03-26/
LOCATION:Cole Center\, 179 Boden Lane\, Natick\, MA\, 01760\, United States
CATEGORIES:Troop Meeting
END:VEVENT
END:VCALENDAR