BEGIN:VCALENDAR
VERSION:2.0
PRODID:-//Troop 7 | Natick, MA | Scouts BSA - ECPv6.15.20//NONSGML v1.0//EN
CALSCALE:GREGORIAN
METHOD:PUBLISH
X-WR-CALNAME:Troop 7 | Natick, MA | Scouts BSA
X-ORIGINAL-URL:https://troop7natick.org
X-WR-CALDESC:Events for Troop 7 | Natick, MA | Scouts BSA
REFRESH-INTERVAL;VALUE=DURATION:PT1H
X-Robots-Tag:noindex
X-PUBLISHED-TTL:PT1H
BEGIN:VTIMEZONE
TZID:America/New_York
BEGIN:DAYLIGHT
TZOFFSETFROM:-0500
TZOFFSETTO:-0400
TZNAME:EDT
DTSTART:20230312T070000
END:DAYLIGHT
BEGIN:STANDARD
TZOFFSETFROM:-0400
TZOFFSETTO:-0500
TZNAME:EST
DTSTART:20231105T060000
END:STANDARD
BEGIN:DAYLIGHT
TZOFFSETFROM:-0500
TZOFFSETTO:-0400
TZNAME:EDT
DTSTART:20240310T070000
END:DAYLIGHT
BEGIN:STANDARD
TZOFFSETFROM:-0400
TZOFFSETTO:-0500
TZNAME:EST
DTSTART:20241103T060000
END:STANDARD
BEGIN:DAYLIGHT
TZOFFSETFROM:-0500
TZOFFSETTO:-0400
TZNAME:EDT
DTSTART:20250309T070000
END:DAYLIGHT
BEGIN:STANDARD
TZOFFSETFROM:-0400
TZOFFSETTO:-0500
TZNAME:EST
DTSTART:20251102T060000
END:STANDARD
END:VTIMEZONE
BEGIN:VEVENT
DTSTART;TZID=America/New_York:20241102T050000
DTEND;TZID=America/New_York:20241103T070000
DTSTAMP:20260420T150744
CREATED:20240907T135059Z
LAST-MODIFIED:20241003T150620Z
UID:10000341-1730523600-1730617200@troop7natick.org
SUMMARY:Arrow of Light Invitational 2024
DESCRIPTION:Webelos from Natick’s Cub Scout packs are invited for an exciting weekend camping with Troop 7. \nAll Webelos II scouts and their parents are invited to join us for an overnight camping trip filled with fun\, rank advancement trainings\, and a traditional Thanksgiving dinner cooked over the fire. \nNOTE: A parent must attend with the Webelos Scout. \nScouts and parents will arrive at 9am on Saturday\, November 2\, with the Opening Ceremony beginning promptly at 10am. If you need a later arrival on Saturday\, please let us know in the RSVP form. \nRSVP BY MONDAY\, OCTOBER 28th at 5PM \n\n 
URL:https://troop7natick.org/event/webelos-invitational-2024/
LOCATION:Resolute Scout Reservation\, 75 Hudson Road\, Bolton\, 01740\, United States
CATEGORIES:Webelos Events
ATTACH;FMTTYPE=image/png:https://troop7natick.org/wp-content/uploads/2024/09/WEBELOS-Invite-20241.png
END:VEVENT
BEGIN:VEVENT
DTSTART;TZID=America/New_York:20241106T140000
DTEND;TZID=America/New_York:20241106T150000
DTSTAMP:20260420T150744
CREATED:20230823T170246Z
LAST-MODIFIED:20230823T170246Z
UID:10000219-1730901600-1730905200@troop7natick.org
SUMMARY:Patrol Leadership Council Meeting
DESCRIPTION:This is the monthly meeting of the Troop patrol leaders.
URL:https://troop7natick.org/event/patrol-leadership-council-meeting/2024-11-06/
LOCATION:Cole Center\, 179 Boden Lane\, Natick\, MA\, 01760\, United States
CATEGORIES:Patrol Leadership Council Meeting
END:VEVENT
BEGIN:VEVENT
DTSTART;TZID=America/New_York:20241107T140000
DTEND;TZID=America/New_York:20241107T153000
DTSTAMP:20260420T150744
CREATED:20230823T170725Z
LAST-MODIFIED:20230823T171343Z
UID:10000279-1730988000-1730993400@troop7natick.org
SUMMARY:Troop Committee Meeting
DESCRIPTION:This is the monthly meeting of the Troop Committee.
URL:https://troop7natick.org/event/troop-committee-meeting/2024-11-07/
LOCATION:Cole Center\, 179 Boden Lane\, Natick\, MA\, 01760\, United States
CATEGORIES:Committee Meetings
END:VEVENT
END:VCALENDAR