BEGIN:VCALENDAR
VERSION:2.0
PRODID:-//Troop 7 | Natick, MA | Scouts BSA - ECPv6.15.20//NONSGML v1.0//EN
CALSCALE:GREGORIAN
METHOD:PUBLISH
X-WR-CALNAME:Troop 7 | Natick, MA | Scouts BSA
X-ORIGINAL-URL:https://troop7natick.org
X-WR-CALDESC:Events for Troop 7 | Natick, MA | Scouts BSA
REFRESH-INTERVAL;VALUE=DURATION:PT1H
X-Robots-Tag:noindex
X-PUBLISHED-TTL:PT1H
BEGIN:VTIMEZONE
TZID:America/New_York
BEGIN:DAYLIGHT
TZOFFSETFROM:-0500
TZOFFSETTO:-0400
TZNAME:EDT
DTSTART:20220313T070000
END:DAYLIGHT
BEGIN:STANDARD
TZOFFSETFROM:-0400
TZOFFSETTO:-0500
TZNAME:EST
DTSTART:20221106T060000
END:STANDARD
BEGIN:DAYLIGHT
TZOFFSETFROM:-0500
TZOFFSETTO:-0400
TZNAME:EDT
DTSTART:20230312T070000
END:DAYLIGHT
BEGIN:STANDARD
TZOFFSETFROM:-0400
TZOFFSETTO:-0500
TZNAME:EST
DTSTART:20231105T060000
END:STANDARD
BEGIN:DAYLIGHT
TZOFFSETFROM:-0500
TZOFFSETTO:-0400
TZNAME:EDT
DTSTART:20240310T070000
END:DAYLIGHT
BEGIN:STANDARD
TZOFFSETFROM:-0400
TZOFFSETTO:-0500
TZNAME:EST
DTSTART:20241103T060000
END:STANDARD
END:VTIMEZONE
BEGIN:VEVENT
DTSTART;TZID=America/New_York:20231115T140000
DTEND;TZID=America/New_York:20231115T150000
DTSTAMP:20260419T183611
CREATED:20230823T165837Z
LAST-MODIFIED:20230823T170430Z
UID:10000012-1700056800-1700060400@troop7natick.org
SUMMARY:Troop Meeting
DESCRIPTION:This is Troop 7’s weekly meeting. Are you interested in joining the Troop? Stop by and see what we’re all about.
URL:https://troop7natick.org/event/troop-meeting/2023-11-15/
LOCATION:Cole Center\, 179 Boden Lane\, Natick\, MA\, 01760\, United States
CATEGORIES:Troop Meeting
END:VEVENT
BEGIN:VEVENT
DTSTART;TZID=America/New_York:20231111T040000
DTEND;TZID=America/New_York:20231111T060000
DTSTAMP:20260419T183611
CREATED:20230825T003752Z
LAST-MODIFIED:20230825T003756Z
UID:10000328-1699675200-1699682400@troop7natick.org
SUMMARY:Veteran's Day Parade
DESCRIPTION:
URL:https://troop7natick.org/event/veterans-day-parade/
LOCATION:MA
CATEGORIES:Community Event
END:VEVENT
BEGIN:VEVENT
DTSTART;TZID=America/New_York:20231108T140000
DTEND;TZID=America/New_York:20231108T150000
DTSTAMP:20260419T183611
CREATED:20230823T165837Z
LAST-MODIFIED:20230823T170430Z
UID:10000011-1699452000-1699455600@troop7natick.org
SUMMARY:Troop Meeting
DESCRIPTION:This is Troop 7’s weekly meeting. Are you interested in joining the Troop? Stop by and see what we’re all about.
URL:https://troop7natick.org/event/troop-meeting/2023-11-08/
LOCATION:Cole Center\, 179 Boden Lane\, Natick\, MA\, 01760\, United States
CATEGORIES:Troop Meeting
END:VEVENT
BEGIN:VEVENT
DTSTART;TZID=America/New_York:20231102T150000
DTEND;TZID=America/New_York:20231102T163000
DTSTAMP:20260419T183611
CREATED:20230823T170725Z
LAST-MODIFIED:20230823T171343Z
UID:10000267-1698937200-1698942600@troop7natick.org
SUMMARY:Troop Committee Meeting
DESCRIPTION:This is the monthly meeting of the Troop Committee.
URL:https://troop7natick.org/event/troop-committee-meeting/2023-11-02/
LOCATION:Cole Center\, 179 Boden Lane\, Natick\, MA\, 01760\, United States
CATEGORIES:Committee Meetings
END:VEVENT
BEGIN:VEVENT
DTSTART;TZID=America/New_York:20231101T150000
DTEND;TZID=America/New_York:20231101T160000
DTSTAMP:20260419T183611
CREATED:20230823T170246Z
LAST-MODIFIED:20230823T170246Z
UID:10000207-1698850800-1698854400@troop7natick.org
SUMMARY:Patrol Leadership Council Meeting
DESCRIPTION:This is the monthly meeting of the Troop patrol leaders.
URL:https://troop7natick.org/event/patrol-leadership-council-meeting/2023-11-01/
LOCATION:Cole Center\, 179 Boden Lane\, Natick\, MA\, 01760\, United States
CATEGORIES:Patrol Leadership Council Meeting
END:VEVENT
BEGIN:VEVENT
DTSTART;TZID=America/New_York:20231025T150000
DTEND;TZID=America/New_York:20231025T160000
DTSTAMP:20260419T183611
CREATED:20230823T165837Z
LAST-MODIFIED:20230823T170430Z
UID:10000010-1698246000-1698249600@troop7natick.org
SUMMARY:Troop Meeting
DESCRIPTION:This is Troop 7’s weekly meeting. Are you interested in joining the Troop? Stop by and see what we’re all about.
URL:https://troop7natick.org/event/troop-meeting/2023-10-25/
LOCATION:Cole Center\, 179 Boden Lane\, Natick\, MA\, 01760\, United States
CATEGORIES:Troop Meeting
END:VEVENT
BEGIN:VEVENT
DTSTART;TZID=America/New_York:20231018T150000
DTEND;TZID=America/New_York:20231018T163000
DTSTAMP:20260419T183611
CREATED:20231013T044336Z
LAST-MODIFIED:20231013T045257Z
UID:10000338-1697641200-1697646600@troop7natick.org
SUMMARY:Court of Honor
DESCRIPTION:Join us as we honor the accomplishments of our Scouts and celebrate their various advancements. \nPizza and dessert served. \nRSVP by Monday\, October 16
URL:https://troop7natick.org/event/court-of-honor/
LOCATION:AMVETS Post #79\, 79 Superior Drive\, Natick\, MA\, 01760\, United States
CATEGORIES:Advancement,Court of Honor
ATTACH;FMTTYPE=image/png:https://troop7natick.org/wp-content/uploads/2023/10/You-are-cordially-invited-to-e1697158358480.png
END:VEVENT
BEGIN:VEVENT
DTSTART;TZID=America/New_York:20231018T150000
DTEND;TZID=America/New_York:20231018T160000
DTSTAMP:20260419T183611
CREATED:20230823T165837Z
LAST-MODIFIED:20230823T170430Z
UID:10000009-1697641200-1697644800@troop7natick.org
SUMMARY:Troop Meeting
DESCRIPTION:This is Troop 7’s weekly meeting. Are you interested in joining the Troop? Stop by and see what we’re all about.
URL:https://troop7natick.org/event/troop-meeting/2023-10-18/
LOCATION:Cole Center\, 179 Boden Lane\, Natick\, MA\, 01760\, United States
CATEGORIES:Troop Meeting
END:VEVENT
BEGIN:VEVENT
DTSTART;TZID=America/New_York:20231011T150000
DTEND;TZID=America/New_York:20231011T160000
DTSTAMP:20260419T183611
CREATED:20230823T165837Z
LAST-MODIFIED:20230823T170430Z
UID:10000008-1697036400-1697040000@troop7natick.org
SUMMARY:Troop Meeting
DESCRIPTION:This is Troop 7’s weekly meeting. Are you interested in joining the Troop? Stop by and see what we’re all about.
URL:https://troop7natick.org/event/troop-meeting/2023-10-11/
LOCATION:Cole Center\, 179 Boden Lane\, Natick\, MA\, 01760\, United States
CATEGORIES:Troop Meeting
END:VEVENT
BEGIN:VEVENT
DTSTART;TZID=America/New_York:20231007T040000
DTEND;TZID=America/New_York:20231009T130000
DTSTAMP:20260419T183611
CREATED:20230825T003345Z
LAST-MODIFIED:20230825T003348Z
UID:10000327-1696651200-1696856400@troop7natick.org
SUMMARY:MassJam 2023
DESCRIPTION:MassJam is a multi-council camporee for Scouts and Venturers from Massachusetts and surrounding states. \n\n\n\nFrom October 7-9\, 2023\, thousands of Scouts and Venturers from Massachusetts and surrounding states will descend on the Cape Cod Fairgrounds in East Falmouth\, Massachusetts for three days of Scouting fun\, exhibits\, challenging activities\, competitions\, entertainment\, and fellowship. \n\n\n\nSeven councils from Massachusetts\, Rhode Island\, and Connecticut\, with support from the Cape Cod Fairgrounds\, and various local & state agencies are participating in the planning of this event.  \n\n\n\nScouts register on ScoutBook by August 30.
URL:https://troop7natick.org/event/massjam-2023/
LOCATION:Cape Cod Fairground\, 1220 Nathan Ellis Highway\, East Falmouth\, Massachusetts\, 02536\, United States
CATEGORIES:Overnight Camping
END:VEVENT
BEGIN:VEVENT
DTSTART;TZID=America/New_York:20231004T150000
DTEND;TZID=America/New_York:20231004T160000
DTSTAMP:20260419T183611
CREATED:20230823T170246Z
LAST-MODIFIED:20230823T170246Z
UID:10000206-1696431600-1696435200@troop7natick.org
SUMMARY:Patrol Leadership Council Meeting
DESCRIPTION:This is the monthly meeting of the Troop patrol leaders.
URL:https://troop7natick.org/event/patrol-leadership-council-meeting/2023-10-04/
LOCATION:Cole Center\, 179 Boden Lane\, Natick\, MA\, 01760\, United States
CATEGORIES:Patrol Leadership Council Meeting
END:VEVENT
BEGIN:VEVENT
DTSTART;TZID=America/New_York:20231003T150000
DTEND;TZID=America/New_York:20231003T163000
DTSTAMP:20260419T183611
CREATED:20231002T234158Z
LAST-MODIFIED:20231002T234240Z
UID:10000266-1696345200-1696350600@troop7natick.org
SUMMARY:Troop Committee Meeting
DESCRIPTION:This is the monthly meeting of the Troop Committee.
URL:https://troop7natick.org/event/troop-committee-meeting-3/
LOCATION:Cole Center\, 179 Boden Lane\, Natick\, MA\, 01760\, United States
CATEGORIES:Committee Meetings
END:VEVENT
BEGIN:VEVENT
DTSTART;TZID=America/New_York:20230927T150000
DTEND;TZID=America/New_York:20230927T160000
DTSTAMP:20260419T183611
CREATED:20230823T165837Z
LAST-MODIFIED:20230823T170430Z
UID:10000007-1695826800-1695830400@troop7natick.org
SUMMARY:Troop Meeting
DESCRIPTION:This is Troop 7’s weekly meeting. Are you interested in joining the Troop? Stop by and see what we’re all about.
URL:https://troop7natick.org/event/troop-meeting/2023-09-27/
LOCATION:Cole Center\, 179 Boden Lane\, Natick\, MA\, 01760\, United States
CATEGORIES:Troop Meeting
END:VEVENT
BEGIN:VEVENT
DTSTART;TZID=America/New_York:20230920T150000
DTEND;TZID=America/New_York:20230920T160000
DTSTAMP:20260419T183611
CREATED:20230823T165837Z
LAST-MODIFIED:20230823T170430Z
UID:10000006-1695222000-1695225600@troop7natick.org
SUMMARY:Troop Meeting
DESCRIPTION:This is Troop 7’s weekly meeting. Are you interested in joining the Troop? Stop by and see what we’re all about.
URL:https://troop7natick.org/event/troop-meeting/2023-09-20/
LOCATION:Cole Center\, 179 Boden Lane\, Natick\, MA\, 01760\, United States
CATEGORIES:Troop Meeting
END:VEVENT
BEGIN:VEVENT
DTSTART;TZID=America/New_York:20230913T150000
DTEND;TZID=America/New_York:20230913T160000
DTSTAMP:20260419T183612
CREATED:20230823T165837Z
LAST-MODIFIED:20230823T170430Z
UID:10000005-1694617200-1694620800@troop7natick.org
SUMMARY:Troop Meeting
DESCRIPTION:This is Troop 7’s weekly meeting. Are you interested in joining the Troop? Stop by and see what we’re all about.
URL:https://troop7natick.org/event/troop-meeting/2023-09-13/
LOCATION:Cole Center\, 179 Boden Lane\, Natick\, MA\, 01760\, United States
CATEGORIES:Troop Meeting
END:VEVENT
BEGIN:VEVENT
DTSTART;TZID=America/New_York:20230909T040000
DTEND;TZID=America/New_York:20230909T130000
DTSTAMP:20260419T183612
CREATED:20230825T002826Z
LAST-MODIFIED:20230825T002830Z
UID:10000326-1694232000-1694264400@troop7natick.org
SUMMARY:Natick Days
DESCRIPTION:Stop by and meet Troop 7 at Natick Days on the Common. Learn about Scouting and do some fun activities.
URL:https://troop7natick.org/event/natick-days/
LOCATION:Natick Common\, 12 S Main Street\, Natick\, Massachusetts\, 01760\, United States
CATEGORIES:Community Event
END:VEVENT
BEGIN:VEVENT
DTSTART;TZID=America/New_York:20230907T150000
DTEND;TZID=America/New_York:20230907T163000
DTSTAMP:20260419T183612
CREATED:20230823T170725Z
LAST-MODIFIED:20230823T171343Z
UID:10000265-1694098800-1694104200@troop7natick.org
SUMMARY:Troop Committee Meeting
DESCRIPTION:This is the monthly meeting of the Troop Committee.
URL:https://troop7natick.org/event/troop-committee-meeting/2023-09-07/
LOCATION:Cole Center\, 179 Boden Lane\, Natick\, MA\, 01760\, United States
CATEGORIES:Committee Meetings
END:VEVENT
BEGIN:VEVENT
DTSTART;TZID=America/New_York:20230906T150000
DTEND;TZID=America/New_York:20230906T160000
DTSTAMP:20260419T183612
CREATED:20230823T170246Z
LAST-MODIFIED:20230823T170246Z
UID:10000205-1694012400-1694016000@troop7natick.org
SUMMARY:Patrol Leadership Council Meeting
DESCRIPTION:This is the monthly meeting of the Troop patrol leaders.
URL:https://troop7natick.org/event/patrol-leadership-council-meeting/2023-09-06/
LOCATION:Cole Center\, 179 Boden Lane\, Natick\, MA\, 01760\, United States
CATEGORIES:Patrol Leadership Council Meeting
END:VEVENT
BEGIN:VEVENT
DTSTART;TZID=America/New_York:20230830T150000
DTEND;TZID=America/New_York:20230830T160000
DTSTAMP:20260419T183612
CREATED:20230823T165837Z
LAST-MODIFIED:20230823T170430Z
UID:10000004-1693407600-1693411200@troop7natick.org
SUMMARY:Troop Meeting
DESCRIPTION:This is Troop 7’s weekly meeting. Are you interested in joining the Troop? Stop by and see what we’re all about.
URL:https://troop7natick.org/event/troop-meeting/2023-08-30/
LOCATION:Cole Center\, 179 Boden Lane\, Natick\, MA\, 01760\, United States
CATEGORIES:Troop Meeting
END:VEVENT
BEGIN:VEVENT
DTSTART;TZID=America/New_York:20230823T150000
DTEND;TZID=America/New_York:20230823T160000
DTSTAMP:20260419T183612
CREATED:20230823T165837Z
LAST-MODIFIED:20230823T170430Z
UID:10000003-1692802800-1692806400@troop7natick.org
SUMMARY:Troop Meeting
DESCRIPTION:This is Troop 7’s weekly meeting. Are you interested in joining the Troop? Stop by and see what we’re all about.
URL:https://troop7natick.org/event/troop-meeting/2023-08-23/
LOCATION:Cole Center\, 179 Boden Lane\, Natick\, MA\, 01760\, United States
CATEGORIES:Troop Meeting
END:VEVENT
BEGIN:VEVENT
DTSTART;TZID=America/New_York:20230614T150000
DTEND;TZID=America/New_York:20230614T163000
DTSTAMP:20260419T183612
CREATED:20230606T014644Z
LAST-MODIFIED:20230606T014644Z
UID:10000001-1686754800-1686760200@troop7natick.org
SUMMARY:Spring 2023 Court of Honor
DESCRIPTION:Please join us at the AmVets on Superior Drive NEXT Wednesday\, June 14th at 7:00pm for Troop 7’s spring Court of Honor! All scouts are expected to attend and family members are strongly encouraged to join us. The Court of Honor recognizes scouts’ achievements and advancements since this past winter. It’s important to demonstrate our support and celebrate the troop’s collective efforts\, even if you or your scout are not receiving recognition at this particular event. \nOur evening will begin with a pizza dinner at 7:00\, followed by the Court of Honor and special recognitions. We’ll end with some sweet treats. Please be sure to RSVP for the number of family members\, including your scout(s)\, by Sunday\, 6/11 at 5:00pm so that we can plan food and refreshments accordingly.
URL:https://troop7natick.org/event/spring-2023-court-of-honor/
LOCATION:AMVETS Post #79\, 79 Superior Drive\, Natick\, MA\, 01760\, United States
CATEGORIES:Advancement,Court of Honor
ATTACH;FMTTYPE=image/png:https://troop7natick.org/wp-content/uploads/2022/10/courtofhonor.png
END:VEVENT
END:VCALENDAR