BEGIN:VCALENDAR
VERSION:2.0
PRODID:-//Troop 7 | Natick, MA | Scouts BSA - ECPv6.15.20//NONSGML v1.0//EN
CALSCALE:GREGORIAN
METHOD:PUBLISH
X-ORIGINAL-URL:https://troop7natick.org
X-WR-CALDESC:Events for Troop 7 | Natick, MA | Scouts BSA
REFRESH-INTERVAL;VALUE=DURATION:PT1H
X-Robots-Tag:noindex
X-PUBLISHED-TTL:PT1H
BEGIN:VTIMEZONE
TZID:America/New_York
BEGIN:DAYLIGHT
TZOFFSETFROM:-0500
TZOFFSETTO:-0400
TZNAME:EDT
DTSTART:20260308T070000
END:DAYLIGHT
BEGIN:STANDARD
TZOFFSETFROM:-0400
TZOFFSETTO:-0500
TZNAME:EST
DTSTART:20261101T060000
END:STANDARD
BEGIN:DAYLIGHT
TZOFFSETFROM:-0500
TZOFFSETTO:-0400
TZNAME:EDT
DTSTART:20270314T070000
END:DAYLIGHT
BEGIN:STANDARD
TZOFFSETFROM:-0400
TZOFFSETTO:-0500
TZNAME:EST
DTSTART:20271107T060000
END:STANDARD
BEGIN:DAYLIGHT
TZOFFSETFROM:-0500
TZOFFSETTO:-0400
TZNAME:EDT
DTSTART:20280312T070000
END:DAYLIGHT
BEGIN:STANDARD
TZOFFSETFROM:-0400
TZOFFSETTO:-0500
TZNAME:EST
DTSTART:20281105T060000
END:STANDARD
END:VTIMEZONE
BEGIN:VEVENT
DTSTART;TZID=America/New_York:20271201T140000
DTEND;TZID=America/New_York:20271201T150000
DTSTAMP:20260421T044945
CREATED:20230823T170246Z
LAST-MODIFIED:20230823T170246Z
UID:10000256-1827669600-1827673200@troop7natick.org
SUMMARY:Patrol Leadership Council Meeting
DESCRIPTION:This is the monthly meeting of the Troop patrol leaders.
URL:https://troop7natick.org/event/patrol-leadership-council-meeting/2027-12-01/
LOCATION:Cole Center\, 179 Boden Lane\, Natick\, MA\, 01760\, United States
CATEGORIES:Patrol Leadership Council Meeting
END:VEVENT
BEGIN:VEVENT
DTSTART;TZID=America/New_York:20271202T140000
DTEND;TZID=America/New_York:20271202T153000
DTSTAMP:20260421T044945
CREATED:20230823T170725Z
LAST-MODIFIED:20230823T171343Z
UID:10000316-1827756000-1827761400@troop7natick.org
SUMMARY:Troop Committee Meeting
DESCRIPTION:This is the monthly meeting of the Troop Committee.
URL:https://troop7natick.org/event/troop-committee-meeting/2027-12-02/
LOCATION:Cole Center\, 179 Boden Lane\, Natick\, MA\, 01760\, United States
CATEGORIES:Committee Meetings
END:VEVENT
BEGIN:VEVENT
DTSTART;TZID=America/New_York:20271208T140000
DTEND;TZID=America/New_York:20271208T150000
DTSTAMP:20260421T044945
CREATED:20230823T165837Z
LAST-MODIFIED:20230823T170430Z
UID:10000175-1828274400-1828278000@troop7natick.org
SUMMARY:Troop Meeting
DESCRIPTION:This is Troop 7’s weekly meeting. Are you interested in joining the Troop? Stop by and see what we’re all about.
URL:https://troop7natick.org/event/troop-meeting/2027-12-08/
LOCATION:Cole Center\, 179 Boden Lane\, Natick\, MA\, 01760\, United States
CATEGORIES:Troop Meeting
END:VEVENT
BEGIN:VEVENT
DTSTART;TZID=America/New_York:20271215T140000
DTEND;TZID=America/New_York:20271215T150000
DTSTAMP:20260421T044945
CREATED:20230823T165837Z
LAST-MODIFIED:20230823T170430Z
UID:10000176-1828879200-1828882800@troop7natick.org
SUMMARY:Troop Meeting
DESCRIPTION:This is Troop 7’s weekly meeting. Are you interested in joining the Troop? Stop by and see what we’re all about.
URL:https://troop7natick.org/event/troop-meeting/2027-12-15/
LOCATION:Cole Center\, 179 Boden Lane\, Natick\, MA\, 01760\, United States
CATEGORIES:Troop Meeting
END:VEVENT
BEGIN:VEVENT
DTSTART;TZID=America/New_York:20271222T140000
DTEND;TZID=America/New_York:20271222T150000
DTSTAMP:20260421T044945
CREATED:20230823T165837Z
LAST-MODIFIED:20230823T170430Z
UID:10000177-1829484000-1829487600@troop7natick.org
SUMMARY:Troop Meeting
DESCRIPTION:This is Troop 7’s weekly meeting. Are you interested in joining the Troop? Stop by and see what we’re all about.
URL:https://troop7natick.org/event/troop-meeting/2027-12-22/
LOCATION:Cole Center\, 179 Boden Lane\, Natick\, MA\, 01760\, United States
CATEGORIES:Troop Meeting
END:VEVENT
BEGIN:VEVENT
DTSTART;TZID=America/New_York:20271229T140000
DTEND;TZID=America/New_York:20271229T150000
DTSTAMP:20260421T044945
CREATED:20230823T165837Z
LAST-MODIFIED:20230823T170430Z
UID:10000178-1830088800-1830092400@troop7natick.org
SUMMARY:Troop Meeting
DESCRIPTION:This is Troop 7’s weekly meeting. Are you interested in joining the Troop? Stop by and see what we’re all about.
URL:https://troop7natick.org/event/troop-meeting/2027-12-29/
LOCATION:Cole Center\, 179 Boden Lane\, Natick\, MA\, 01760\, United States
CATEGORIES:Troop Meeting
END:VEVENT
END:VCALENDAR