BEGIN:VCALENDAR
VERSION:2.0
PRODID:-//Troop 7 | Natick, MA | Scouts BSA - ECPv6.15.20//NONSGML v1.0//EN
CALSCALE:GREGORIAN
METHOD:PUBLISH
X-WR-CALNAME:Troop 7 | Natick, MA | Scouts BSA
X-ORIGINAL-URL:https://troop7natick.org
X-WR-CALDESC:Events for Troop 7 | Natick, MA | Scouts BSA
REFRESH-INTERVAL;VALUE=DURATION:PT1H
X-Robots-Tag:noindex
X-PUBLISHED-TTL:PT1H
BEGIN:VTIMEZONE
TZID:America/New_York
BEGIN:DAYLIGHT
TZOFFSETFROM:-0500
TZOFFSETTO:-0400
TZNAME:EDT
DTSTART:20260308T070000
END:DAYLIGHT
BEGIN:STANDARD
TZOFFSETFROM:-0400
TZOFFSETTO:-0500
TZNAME:EST
DTSTART:20261101T060000
END:STANDARD
BEGIN:DAYLIGHT
TZOFFSETFROM:-0500
TZOFFSETTO:-0400
TZNAME:EDT
DTSTART:20270314T070000
END:DAYLIGHT
BEGIN:STANDARD
TZOFFSETFROM:-0400
TZOFFSETTO:-0500
TZNAME:EST
DTSTART:20271107T060000
END:STANDARD
BEGIN:DAYLIGHT
TZOFFSETFROM:-0500
TZOFFSETTO:-0400
TZNAME:EDT
DTSTART:20280312T070000
END:DAYLIGHT
BEGIN:STANDARD
TZOFFSETFROM:-0400
TZOFFSETTO:-0500
TZNAME:EST
DTSTART:20281105T060000
END:STANDARD
END:VTIMEZONE
BEGIN:VEVENT
DTSTART;TZID=America/New_York:20270401T150000
DTEND;TZID=America/New_York:20270401T163000
DTSTAMP:20260420T024822
CREATED:20230823T170725Z
LAST-MODIFIED:20230823T171343Z
UID:10000308-1806591600-1806597000@troop7natick.org
SUMMARY:Troop Committee Meeting
DESCRIPTION:This is the monthly meeting of the Troop Committee.
URL:https://troop7natick.org/event/troop-committee-meeting/2027-04-01/
LOCATION:Cole Center\, 179 Boden Lane\, Natick\, MA\, 01760\, United States
CATEGORIES:Committee Meetings
END:VEVENT
BEGIN:VEVENT
DTSTART;TZID=America/New_York:20270407T150000
DTEND;TZID=America/New_York:20270407T160000
DTSTAMP:20260420T024823
CREATED:20230823T170246Z
LAST-MODIFIED:20230823T170246Z
UID:10000248-1807110000-1807113600@troop7natick.org
SUMMARY:Patrol Leadership Council Meeting
DESCRIPTION:This is the monthly meeting of the Troop patrol leaders.
URL:https://troop7natick.org/event/patrol-leadership-council-meeting/2027-04-07/
LOCATION:Cole Center\, 179 Boden Lane\, Natick\, MA\, 01760\, United States
CATEGORIES:Patrol Leadership Council Meeting
END:VEVENT
BEGIN:VEVENT
DTSTART;TZID=America/New_York:20270414T150000
DTEND;TZID=America/New_York:20270414T160000
DTSTAMP:20260420T024823
CREATED:20230823T165837Z
LAST-MODIFIED:20230823T170430Z
UID:10000149-1807714800-1807718400@troop7natick.org
SUMMARY:Troop Meeting
DESCRIPTION:This is Troop 7’s weekly meeting. Are you interested in joining the Troop? Stop by and see what we’re all about.
URL:https://troop7natick.org/event/troop-meeting/2027-04-14/
LOCATION:Cole Center\, 179 Boden Lane\, Natick\, MA\, 01760\, United States
CATEGORIES:Troop Meeting
END:VEVENT
BEGIN:VEVENT
DTSTART;TZID=America/New_York:20270421T150000
DTEND;TZID=America/New_York:20270421T160000
DTSTAMP:20260420T024823
CREATED:20230823T165837Z
LAST-MODIFIED:20230823T170430Z
UID:10000150-1808319600-1808323200@troop7natick.org
SUMMARY:Troop Meeting
DESCRIPTION:This is Troop 7’s weekly meeting. Are you interested in joining the Troop? Stop by and see what we’re all about.
URL:https://troop7natick.org/event/troop-meeting/2027-04-21/
LOCATION:Cole Center\, 179 Boden Lane\, Natick\, MA\, 01760\, United States
CATEGORIES:Troop Meeting
END:VEVENT
BEGIN:VEVENT
DTSTART;TZID=America/New_York:20270428T150000
DTEND;TZID=America/New_York:20270428T160000
DTSTAMP:20260420T024823
CREATED:20230823T165837Z
LAST-MODIFIED:20230823T170430Z
UID:10000151-1808924400-1808928000@troop7natick.org
SUMMARY:Troop Meeting
DESCRIPTION:This is Troop 7’s weekly meeting. Are you interested in joining the Troop? Stop by and see what we’re all about.
URL:https://troop7natick.org/event/troop-meeting/2027-04-28/
LOCATION:Cole Center\, 179 Boden Lane\, Natick\, MA\, 01760\, United States
CATEGORIES:Troop Meeting
END:VEVENT
END:VCALENDAR