BEGIN:VCALENDAR
VERSION:2.0
PRODID:-//Troop 7 | Natick, MA | Scouts BSA - ECPv6.15.20//NONSGML v1.0//EN
CALSCALE:GREGORIAN
METHOD:PUBLISH
X-ORIGINAL-URL:https://troop7natick.org
X-WR-CALDESC:Events for Troop 7 | Natick, MA | Scouts BSA
REFRESH-INTERVAL;VALUE=DURATION:PT1H
X-Robots-Tag:noindex
X-PUBLISHED-TTL:PT1H
BEGIN:VTIMEZONE
TZID:America/New_York
BEGIN:DAYLIGHT
TZOFFSETFROM:-0500
TZOFFSETTO:-0400
TZNAME:EDT
DTSTART:20250309T070000
END:DAYLIGHT
BEGIN:STANDARD
TZOFFSETFROM:-0400
TZOFFSETTO:-0500
TZNAME:EST
DTSTART:20251102T060000
END:STANDARD
BEGIN:DAYLIGHT
TZOFFSETFROM:-0500
TZOFFSETTO:-0400
TZNAME:EDT
DTSTART:20260308T070000
END:DAYLIGHT
BEGIN:STANDARD
TZOFFSETFROM:-0400
TZOFFSETTO:-0500
TZNAME:EST
DTSTART:20261101T060000
END:STANDARD
BEGIN:DAYLIGHT
TZOFFSETFROM:-0500
TZOFFSETTO:-0400
TZNAME:EDT
DTSTART:20270314T070000
END:DAYLIGHT
BEGIN:STANDARD
TZOFFSETFROM:-0400
TZOFFSETTO:-0500
TZNAME:EST
DTSTART:20271107T060000
END:STANDARD
END:VTIMEZONE
BEGIN:VEVENT
DTSTART;TZID=America/New_York:20260101T140000
DTEND;TZID=America/New_York:20260101T153000
DTSTAMP:20260419T233126
CREATED:20230823T170725Z
LAST-MODIFIED:20230823T171343Z
UID:10000293-1767276000-1767281400@troop7natick.org
SUMMARY:Troop Committee Meeting
DESCRIPTION:This is the monthly meeting of the Troop Committee.
URL:https://troop7natick.org/event/troop-committee-meeting/2026-01-01/
LOCATION:Cole Center\, 179 Boden Lane\, Natick\, MA\, 01760\, United States
CATEGORIES:Committee Meetings
END:VEVENT
BEGIN:VEVENT
DTSTART;TZID=America/New_York:20260107T140000
DTEND;TZID=America/New_York:20260107T150000
DTSTAMP:20260419T233126
CREATED:20230823T170246Z
LAST-MODIFIED:20230823T170246Z
UID:10000233-1767794400-1767798000@troop7natick.org
SUMMARY:Patrol Leadership Council Meeting
DESCRIPTION:This is the monthly meeting of the Troop patrol leaders.
URL:https://troop7natick.org/event/patrol-leadership-council-meeting/2026-01-07/
LOCATION:Cole Center\, 179 Boden Lane\, Natick\, MA\, 01760\, United States
CATEGORIES:Patrol Leadership Council Meeting
END:VEVENT
BEGIN:VEVENT
DTSTART;TZID=America/New_York:20260114T140000
DTEND;TZID=America/New_York:20260114T150000
DTSTAMP:20260419T233126
CREATED:20230823T165837Z
LAST-MODIFIED:20230823T170430Z
UID:10000099-1768399200-1768402800@troop7natick.org
SUMMARY:Troop Meeting
DESCRIPTION:This is Troop 7’s weekly meeting. Are you interested in joining the Troop? Stop by and see what we’re all about.
URL:https://troop7natick.org/event/troop-meeting/2026-01-14/
LOCATION:Cole Center\, 179 Boden Lane\, Natick\, MA\, 01760\, United States
CATEGORIES:Troop Meeting
END:VEVENT
BEGIN:VEVENT
DTSTART;TZID=America/New_York:20260121T140000
DTEND;TZID=America/New_York:20260121T150000
DTSTAMP:20260419T233126
CREATED:20230823T165837Z
LAST-MODIFIED:20230823T170430Z
UID:10000100-1769004000-1769007600@troop7natick.org
SUMMARY:Troop Meeting
DESCRIPTION:This is Troop 7’s weekly meeting. Are you interested in joining the Troop? Stop by and see what we’re all about.
URL:https://troop7natick.org/event/troop-meeting/2026-01-21/
LOCATION:Cole Center\, 179 Boden Lane\, Natick\, MA\, 01760\, United States
CATEGORIES:Troop Meeting
END:VEVENT
BEGIN:VEVENT
DTSTART;TZID=America/New_York:20260128T140000
DTEND;TZID=America/New_York:20260128T150000
DTSTAMP:20260419T233126
CREATED:20230823T165837Z
LAST-MODIFIED:20230823T170430Z
UID:10000101-1769608800-1769612400@troop7natick.org
SUMMARY:Troop Meeting
DESCRIPTION:This is Troop 7’s weekly meeting. Are you interested in joining the Troop? Stop by and see what we’re all about.
URL:https://troop7natick.org/event/troop-meeting/2026-01-28/
LOCATION:Cole Center\, 179 Boden Lane\, Natick\, MA\, 01760\, United States
CATEGORIES:Troop Meeting
END:VEVENT
END:VCALENDAR