BEGIN:VCALENDAR
VERSION:2.0
PRODID:-//Troop 7 | Natick, MA | Scouts BSA - ECPv6.15.20//NONSGML v1.0//EN
CALSCALE:GREGORIAN
METHOD:PUBLISH
X-ORIGINAL-URL:https://troop7natick.org
X-WR-CALDESC:Events for Troop 7 | Natick, MA | Scouts BSA
REFRESH-INTERVAL;VALUE=DURATION:PT1H
X-Robots-Tag:noindex
X-PUBLISHED-TTL:PT1H
BEGIN:VTIMEZONE
TZID:America/New_York
BEGIN:DAYLIGHT
TZOFFSETFROM:-0500
TZOFFSETTO:-0400
TZNAME:EDT
DTSTART:20240310T070000
END:DAYLIGHT
BEGIN:STANDARD
TZOFFSETFROM:-0400
TZOFFSETTO:-0500
TZNAME:EST
DTSTART:20241103T060000
END:STANDARD
BEGIN:DAYLIGHT
TZOFFSETFROM:-0500
TZOFFSETTO:-0400
TZNAME:EDT
DTSTART:20250309T070000
END:DAYLIGHT
BEGIN:STANDARD
TZOFFSETFROM:-0400
TZOFFSETTO:-0500
TZNAME:EST
DTSTART:20251102T060000
END:STANDARD
BEGIN:DAYLIGHT
TZOFFSETFROM:-0500
TZOFFSETTO:-0400
TZNAME:EDT
DTSTART:20260308T070000
END:DAYLIGHT
BEGIN:STANDARD
TZOFFSETFROM:-0400
TZOFFSETTO:-0500
TZNAME:EST
DTSTART:20261101T060000
END:STANDARD
BEGIN:DAYLIGHT
TZOFFSETFROM:-0500
TZOFFSETTO:-0400
TZNAME:EDT
DTSTART:20270314T070000
END:DAYLIGHT
BEGIN:STANDARD
TZOFFSETFROM:-0400
TZOFFSETTO:-0500
TZNAME:EST
DTSTART:20271107T060000
END:STANDARD
END:VTIMEZONE
BEGIN:VEVENT
DTSTART;TZID=America/New_York:20250104T160000
DTEND;TZID=America/New_York:20250104T180000
DTSTAMP:20260420T032457
CREATED:20241212T220226Z
LAST-MODIFIED:20241212T230846Z
UID:10000343-1736006400-1736013600@troop7natick.org
SUMMARY:Appreciation Celebration for Scoutmaster Opela
DESCRIPTION:Join us as we celebrate Glenn Opela as he steps down after 10 years as Troop 7 Scoutmaster. We will honor his time\, dedication\, and commitment to the Troop and Scouting. \n**If you would like to make a donation to support the event and gift\, please use the link below: \nhttps://pay.troop7natick.org/glenn
URL:https://troop7natick.org/event/appreciation-celebration-for-scoutmaster-opela/
LOCATION:AMVETS Post #79\, 79 Superior Drive\, Natick\, MA\, 01760\, United States
CATEGORIES:Special Event
ATTACH;FMTTYPE=image/png:https://troop7natick.org/wp-content/uploads/2024/12/Glen-Appreciation.png
END:VEVENT
BEGIN:VEVENT
DTSTART;TZID=America/New_York:20260517T083000
DTEND;TZID=America/New_York:20260517T113000
DTSTAMP:20260420T032457
CREATED:20260323T143235Z
LAST-MODIFIED:20260323T143235Z
UID:10000349-1779006600-1779017400@troop7natick.org
SUMMARY:2026 Pancake Breakfast
DESCRIPTION:Join Troop 7 as they host their annual pancake breakfast for Natick residents. Enjoy pancakes\, eggs\, breakfast meats\, and more all while visiting with friends and neighbors. All ticket sale proceeds go to support Troop 7 in Natick and their 2026 high adventure trip.
URL:https://troop7natick.org/event/2026-pancake-breakfast/
LOCATION:AMVETS Post #79\, 79 Superior Drive\, Natick\, MA\, 01760\, United States
CATEGORIES:Community Event,Fundraising,Special Event
ATTACH;FMTTYPE=image/png:https://troop7natick.org/wp-content/uploads/2026/03/2026-Pancake-Breakfast.png
END:VEVENT
END:VCALENDAR